BEGIN:VCALENDAR
VERSION:2.0
PRODID:-//Bocskai István Református Oktatási Központ - ECPv5.9.2//NONSGML v1.0//EN
CALSCALE:GREGORIAN
METHOD:PUBLISH
X-WR-CALNAME:Bocskai István Református Oktatási Központ
X-ORIGINAL-URL:https://birokhalasztelek.hu/kozepiskola
X-WR-CALDESC:Events for Bocskai István Református Oktatási Központ
BEGIN:VTIMEZONE
TZID:UTC
BEGIN:STANDARD
TZOFFSETFROM:+0000
TZOFFSETTO:+0000
TZNAME:UTC
DTSTART:20260101T000000
END:STANDARD
END:VTIMEZONE
BEGIN:VEVENT
DTSTART;TZID=UTC:20260303T143000
DTEND;TZID=UTC:20260303T163000
DTSTAMP:20260425T204031
CREATED:20260104T182816Z
LAST-MODIFIED:20260104T182816Z
UID:6877-1772548200-1772555400@birokhalasztelek.hu
SUMMARY:Tücsök Hangverseny
DESCRIPTION:
URL:https://birokhalasztelek.hu/kozepiskola/event/tucsok-hangverseny-7/
END:VEVENT
END:VCALENDAR