BEGIN:VCALENDAR
VERSION:2.0
PRODID:-//Bocskai István Református Oktatási Központ - ECPv5.9.2//NONSGML v1.0//EN
CALSCALE:GREGORIAN
METHOD:PUBLISH
X-WR-CALNAME:Bocskai István Református Oktatási Központ
X-ORIGINAL-URL:https://birokhalasztelek.hu/kozepiskola
X-WR-CALDESC:Events for Bocskai István Református Oktatási Központ
BEGIN:VTIMEZONE
TZID:UTC
BEGIN:STANDARD
TZOFFSETFROM:+0000
TZOFFSETTO:+0000
TZNAME:UTC
DTSTART:20260101T000000
END:STANDARD
END:VTIMEZONE
BEGIN:VEVENT
DTSTART;VALUE=DATE:20260307
DTEND;VALUE=DATE:20260308
DTSTAMP:20260425T180307
CREATED:20260104T182900Z
LAST-MODIFIED:20260104T182900Z
UID:6881-1772841600-1772927999@birokhalasztelek.hu
SUMMARY:Társalkodó írásbeli nyelvvizsga
DESCRIPTION:
URL:https://birokhalasztelek.hu/kozepiskola/event/tarsalkodo-irasbeli-nyelvvizsga-2/
END:VEVENT
END:VCALENDAR