BEGIN:VCALENDAR
VERSION:2.0
PRODID:-//Bocskai István Református Oktatási Központ - ECPv5.9.2//NONSGML v1.0//EN
CALSCALE:GREGORIAN
METHOD:PUBLISH
X-WR-CALNAME:Bocskai István Református Oktatási Központ
X-ORIGINAL-URL:https://birokhalasztelek.hu/kozepiskola
X-WR-CALDESC:Events for Bocskai István Református Oktatási Központ
BEGIN:VTIMEZONE
TZID:UTC
BEGIN:STANDARD
TZOFFSETFROM:+0000
TZOFFSETTO:+0000
TZNAME:UTC
DTSTART:20260101T000000
END:STANDARD
END:VTIMEZONE
BEGIN:VEVENT
DTSTART;VALUE=DATE:20260227
DTEND;VALUE=DATE:20260301
DTSTAMP:20260426T005721
CREATED:20250908T200210Z
LAST-MODIFIED:20250908T200210Z
UID:6760-1772150400-1772323199@birokhalasztelek.hu
SUMMARY:Református Iskolák Matematikaversenye
DESCRIPTION:
URL:https://birokhalasztelek.hu/kozepiskola/event/reformatus-iskolak-matematikaversenye-3/
END:VEVENT
END:VCALENDAR