BEGIN:VCALENDAR
VERSION:2.0
PRODID:-//Bocskai István Református Oktatási Központ - ECPv5.9.2//NONSGML v1.0//EN
CALSCALE:GREGORIAN
METHOD:PUBLISH
X-WR-CALNAME:Bocskai István Református Oktatási Központ
X-ORIGINAL-URL:https://birokhalasztelek.hu/kozepiskola
X-WR-CALDESC:Events for Bocskai István Református Oktatási Központ
BEGIN:VTIMEZONE
TZID:UTC
BEGIN:STANDARD
TZOFFSETFROM:+0000
TZOFFSETTO:+0000
TZNAME:UTC
DTSTART:20260101T000000
END:STANDARD
END:VTIMEZONE
BEGIN:VEVENT
DTSTART;TZID=UTC:20260429T150000
DTEND;TZID=UTC:20260429T170000
DTSTAMP:20260423T111654
CREATED:20260104T184047Z
LAST-MODIFIED:20260104T184047Z
UID:6929-1777474800-1777482000@birokhalasztelek.hu
SUMMARY:Osztályozó értekezletek [12.a\, 12.b\, 13.c\, 13.d\, 13.r\, ELOG-2/14.]
DESCRIPTION:
URL:https://birokhalasztelek.hu/kozepiskola/event/osztalyozo-ertekezletek-12-a-12-b-13-c-13-d-13-r-elog-2-14/
END:VEVENT
END:VCALENDAR