BEGIN:VCALENDAR
VERSION:2.0
PRODID:-//Bocskai István Református Oktatási Központ - ECPv5.9.2//NONSGML v1.0//EN
CALSCALE:GREGORIAN
METHOD:PUBLISH
X-WR-CALNAME:Bocskai István Református Oktatási Központ
X-ORIGINAL-URL:https://birokhalasztelek.hu/kozepiskola
X-WR-CALDESC:Events for Bocskai István Református Oktatási Központ
BEGIN:VTIMEZONE
TZID:UTC
BEGIN:STANDARD
TZOFFSETFROM:+0000
TZOFFSETTO:+0000
TZNAME:UTC
DTSTART:20260101T000000
END:STANDARD
END:VTIMEZONE
BEGIN:VEVENT
DTSTART;VALUE=DATE:20260315
DTEND;VALUE=DATE:20260316
DTSTAMP:20260425T135940
CREATED:20260104T183022Z
LAST-MODIFIED:20260104T183022Z
UID:6887-1773532800-1773619199@birokhalasztelek.hu
SUMMARY:Nemzeti ünnep
DESCRIPTION:
URL:https://birokhalasztelek.hu/kozepiskola/event/nemzeti-unnep-16/
END:VEVENT
END:VCALENDAR