BEGIN:VCALENDAR
VERSION:2.0
PRODID:-//Bocskai István Református Oktatási Központ - ECPv5.9.2//NONSGML v1.0//EN
CALSCALE:GREGORIAN
METHOD:PUBLISH
X-WR-CALNAME:Bocskai István Református Oktatási Központ
X-ORIGINAL-URL:https://birokhalasztelek.hu/kozepiskola
X-WR-CALDESC:Events for Bocskai István Református Oktatási Központ
BEGIN:VTIMEZONE
TZID:UTC
BEGIN:STANDARD
TZOFFSETFROM:+0000
TZOFFSETTO:+0000
TZNAME:UTC
DTSTART:20260101T000000
END:STANDARD
END:VTIMEZONE
BEGIN:VEVENT
DTSTART;VALUE=DATE:20260312
DTEND;VALUE=DATE:20260313
DTSTAMP:20260425T163420
CREATED:20260104T182927Z
LAST-MODIFIED:20260104T182927Z
UID:6883-1773273600-1773359999@birokhalasztelek.hu
SUMMARY:Látogatás a Terror Háza Múzeumban (12.a\, 12.b\, 12.g\, 12.im\, 12.hr)
DESCRIPTION:
URL:https://birokhalasztelek.hu/kozepiskola/event/latogatas-a-terror-haza-muzeumban-12-a-12-b-12-g-12-im-12-hr/
END:VEVENT
END:VCALENDAR