BEGIN:VCALENDAR
VERSION:2.0
PRODID:-//Bocskai István Református Oktatási Központ - ECPv5.9.2//NONSGML v1.0//EN
CALSCALE:GREGORIAN
METHOD:PUBLISH
X-WR-CALNAME:Bocskai István Református Oktatási Központ
X-ORIGINAL-URL:https://birokhalasztelek.hu/kozepiskola
X-WR-CALDESC:Events for Bocskai István Református Oktatási Központ
BEGIN:VTIMEZONE
TZID:UTC
BEGIN:STANDARD
TZOFFSETFROM:+0000
TZOFFSETTO:+0000
TZNAME:UTC
DTSTART:20260101T000000
END:STANDARD
END:VTIMEZONE
BEGIN:VEVENT
DTSTART;VALUE=DATE:20260420
DTEND;VALUE=DATE:20260425
DTSTAMP:20260423T095431
CREATED:20260104T183858Z
LAST-MODIFIED:20260104T183858Z
UID:6921-1776643200-1777075199@birokhalasztelek.hu
SUMMARY:Fenntarthatósági témahét: Tanulmányi kirándulás (Budai Sas-hegy Természetvédelmi terület) - biológia emelt szintű képzés
DESCRIPTION:
URL:https://birokhalasztelek.hu/kozepiskola/event/fenntarthatosagi-temahet-tanulmanyi-kirandulas-budai-sas-hegy-termeszetvedelmi-terulet-biologia-emelt-szintu-kepzes/
END:VEVENT
END:VCALENDAR