BEGIN:VCALENDAR
VERSION:2.0
PRODID:-//Bocskai István Református Oktatási Központ - ECPv5.9.2//NONSGML v1.0//EN
CALSCALE:GREGORIAN
METHOD:PUBLISH
X-WR-CALNAME:Bocskai István Református Oktatási Központ
X-ORIGINAL-URL:https://birokhalasztelek.hu/kozepiskola
X-WR-CALDESC:Events for Bocskai István Református Oktatási Központ
BEGIN:VTIMEZONE
TZID:UTC
BEGIN:STANDARD
TZOFFSETFROM:+0000
TZOFFSETTO:+0000
TZNAME:UTC
DTSTART:20260101T000000
END:STANDARD
END:VTIMEZONE
BEGIN:VEVENT
DTSTART;TZID=UTC:20260429T180000
DTEND;TZID=UTC:20260429T200000
DTSTAMP:20260423T110740
CREATED:20260104T184120Z
LAST-MODIFIED:20260104T184120Z
UID:6931-1777485600-1777492800@birokhalasztelek.hu
SUMMARY:Búcsúzás a ballagó kollégistáktól
DESCRIPTION:
URL:https://birokhalasztelek.hu/kozepiskola/event/bucsuzas-a-ballago-kollegistaktol-8/
END:VEVENT
END:VCALENDAR