BEGIN:VCALENDAR
VERSION:2.0
PRODID:-//Bocskai István Református Oktatási Központ - ECPv5.9.2//NONSGML v1.0//EN
CALSCALE:GREGORIAN
METHOD:PUBLISH
X-WR-CALNAME:Bocskai István Református Oktatási Központ
X-ORIGINAL-URL:https://birokhalasztelek.hu/kozepiskola
X-WR-CALDESC:Events for Bocskai István Református Oktatási Központ
BEGIN:VTIMEZONE
TZID:UTC
BEGIN:STANDARD
TZOFFSETFROM:+0000
TZOFFSETTO:+0000
TZNAME:UTC
DTSTART:20260101T000000
END:STANDARD
END:VTIMEZONE
BEGIN:VEVENT
DTSTART;TZID=UTC:20260430T100000
DTEND;TZID=UTC:20260430T140000
DTSTAMP:20260423T110847
CREATED:20260104T184219Z
LAST-MODIFIED:20260104T184219Z
UID:6935-1777543200-1777557600@birokhalasztelek.hu
SUMMARY:Ballagás (9:00 h ballagási istentisztelet)
DESCRIPTION:
URL:https://birokhalasztelek.hu/kozepiskola/event/ballagas-900-h-ballagasi-istentisztelet-5/
END:VEVENT
END:VCALENDAR